BEGIN:VCALENDAR
VERSION:2.0
PRODID:-//AMA Birmingham - ECPv6.10.1.1//NONSGML v1.0//EN
CALSCALE:GREGORIAN
METHOD:PUBLISH
X-WR-CALNAME:AMA Birmingham
X-ORIGINAL-URL:https://amabirmingham.org
X-WR-CALDESC:Events for AMA Birmingham
REFRESH-INTERVAL;VALUE=DURATION:PT1H
X-Robots-Tag:noindex
X-PUBLISHED-TTL:PT1H
BEGIN:VTIMEZONE
TZID:America/Chicago
BEGIN:DAYLIGHT
TZOFFSETFROM:-0600
TZOFFSETTO:-0500
TZNAME:CDT
DTSTART:20240310T080000
END:DAYLIGHT
BEGIN:STANDARD
TZOFFSETFROM:-0500
TZOFFSETTO:-0600
TZNAME:CST
DTSTART:20241103T070000
END:STANDARD
END:VTIMEZONE
BEGIN:VEVENT
DTSTART;TZID=America/Chicago:20240320T113000
DTEND;TZID=America/Chicago:20240320T130000
DTSTAMP:20260420T061543
CREATED:20240317T053355Z
LAST-MODIFIED:20240604T025456Z
UID:4794-1710934200-1710939600@amabirmingham.org
SUMMARY:SEO Unleashed: Dominate Social\, Paid\, and Content Marketing Like a Pro
DESCRIPTION:Calling all Birmingham marketing and advertising professionals! \nGet ready to take your marketing game to the next level at the American Marketing Association’s “SEO Unleashed: Dominate Social\, Paid\, and Content Marketing Like a Pro” luncheon. \nOur Panel Includes: \n\nSara Sobolewski – Director of Content Marketing\, Doceree\nKayla Stinnett – Founder and Owner\, Iron City Social\nMatt Robinson – Director of Advertising & Analytics\, UpTick Marketing\n\nJoin us for an afternoon of: \n\nActionable insights from industry experts\nPowerful strategies to unleash the full potential of SEO across social media\, paid advertising\, and content marketing channels\nThe latest trends and best practices for optimizing your online presence and reaching your target audience with precision and impact\n\nWhether you’re a seasoned marketer or just starting out\, this event is for YOU! \nNetwork with fellow marketing professionals\, gain valuable insights\, and leave equipped with the skills and knowledge you need to dominate social\, paid\, and content marketing like a pro! \nDon’t miss this opportunity to revolutionize your approach to marketing and unleash the full potential of SEO! \nRegister today! \nSpace is limited. \n#BirminghamAMA #SEOUnleashed #MarketingEvent
URL:https://amabirmingham.org/event/seo-unleashed-dominate-social-paid-and-content-marketing-like-a-pro/
LOCATION:Innovation Depot\, 1500 1st Ave N\, Central Meeting Space - Near Stairs\, Birmingham\, AL\, 35203\, United States
CATEGORIES:Luncheons
ORGANIZER;CN="American Marketing Association - Birmingham Chapter":MAILTO:contact@amabirmingham.org
END:VEVENT
END:VCALENDAR