BEGIN:VCALENDAR
VERSION:2.0
PRODID:-//AMA Birmingham - ECPv6.10.1.1//NONSGML v1.0//EN
CALSCALE:GREGORIAN
METHOD:PUBLISH
X-WR-CALNAME:AMA Birmingham
X-ORIGINAL-URL:https://amabirmingham.org
X-WR-CALDESC:Events for AMA Birmingham
REFRESH-INTERVAL;VALUE=DURATION:PT1H
X-Robots-Tag:noindex
X-PUBLISHED-TTL:PT1H
BEGIN:VTIMEZONE
TZID:America/Chicago
BEGIN:DAYLIGHT
TZOFFSETFROM:-0600
TZOFFSETTO:-0500
TZNAME:CDT
DTSTART:20240310T080000
END:DAYLIGHT
BEGIN:STANDARD
TZOFFSETFROM:-0500
TZOFFSETTO:-0600
TZNAME:CST
DTSTART:20241103T070000
END:STANDARD
END:VTIMEZONE
BEGIN:VEVENT
DTSTART;TZID=America/Chicago:20240821T113000
DTEND;TZID=America/Chicago:20240821T130000
DTSTAMP:20260419T210155
CREATED:20240818T214323Z
LAST-MODIFIED:20240818T215532Z
UID:5074-1724239800-1724245200@amabirmingham.org
SUMMARY:AMA Birmingham Signature Series Luncheon: August 2024
DESCRIPTION:Join us as Cindy Martin shares highlights and take aways from her 30 years of building successful digital media services and businesses. \n\n\n\n\n\n\n\n\n\nDate and time\n\n\n \n\nWednesday\, August 21 · 11:30am – 1pm CDT\n\n\nJoin AMA Birmingham as Cindy Martin shares highlights and take aways from her 30 years of building successful digital media services and businesses. From AT&T’s first dial-up to Magellan search engine to AL.com and now Bham Now\, learn what’s the same and what’s different. \nAbout the speaker \nCindy Martin is a digital media pioneer\, nature lover and community supporter. Martin is the Founder and CEO of media brands; Bham Now\, The Bama Buzz and Hville Blast. She serves as Director-at-Large for the Downtown Rotary and as a Board Member for the Black Warrior Riverkeeper. \nPreviously\, Martin was President of Alabama Media Group and the founding CEO of AL.com where she led the company from its inception\, for 16 years. Before moving back home to Alabama\, Martin was VP of Sales and Marketing for Magellan Search Engine in San Francisco\, one of the first public search engines on the Internet. She started her career in the Leadership Continuity Program at corporate AT&T in New Jersey and served on the founding team of AT&T’s Internet service offerings in 1994. \nMartin received a B.S. in Mechanical Engineering\, ’84 cum laude and an MBA\, ’86 both from the University of Alabama. \nHer honors have included: Women’s Leadership Award (Culverhouse School of Business); Advertising CEO of the Year\, Birmingham Ad Fed; Top 10 Women in Business\, Birmingham Business Journal\, Small Business CEO of the Year\, Birmingham Chamber of Commerce and BADASS Woman\, BG Media. \nA native of Bessemer\, Alabama\, Martin is married to Cliff and lives in Birmingham with her cat Fluffy. When not working\, Martin enjoys hiking\, traveling and growing native plants.
URL:https://amabirmingham.org/event/ama-birmingham-signature-series-luncheon-august-2024/
LOCATION:Innovation Depot\, 1500 1st Ave N\, Central Meeting Space - Near Stairs\, Birmingham\, AL\, 35203\, United States
CATEGORIES:Luncheons
ORGANIZER;CN="American Marketing Association - Birmingham Chapter":MAILTO:contact@amabirmingham.org
END:VEVENT
END:VCALENDAR