BEGIN:VCALENDAR
VERSION:2.0
PRODID:-//AMA Birmingham - ECPv6.10.1.1//NONSGML v1.0//EN
CALSCALE:GREGORIAN
METHOD:PUBLISH
X-WR-CALNAME:AMA Birmingham
X-ORIGINAL-URL:https://amabirmingham.org
X-WR-CALDESC:Events for AMA Birmingham
REFRESH-INTERVAL;VALUE=DURATION:PT1H
X-Robots-Tag:noindex
X-PUBLISHED-TTL:PT1H
BEGIN:VTIMEZONE
TZID:America/Chicago
BEGIN:DAYLIGHT
TZOFFSETFROM:-0600
TZOFFSETTO:-0500
TZNAME:CDT
DTSTART:20240310T080000
END:DAYLIGHT
BEGIN:STANDARD
TZOFFSETFROM:-0500
TZOFFSETTO:-0600
TZNAME:CST
DTSTART:20241103T070000
END:STANDARD
END:VTIMEZONE
BEGIN:VEVENT
DTSTART;TZID=America/Chicago:20240619T113000
DTEND;TZID=America/Chicago:20240619T130000
DTSTAMP:20260420T002228
CREATED:20240604T024117Z
LAST-MODIFIED:20240605T062637Z
UID:4851-1718796600-1718802000@amabirmingham.org
SUMMARY:Responsible Media & Marketing Strategies to Celebrate Juneteenth
DESCRIPTION:AMA Birmingham has partnered with Alabama Media Professionals for a special luncheon that recognizes and celebrates Juneteenth. We’re featuring a guest panel of marketing and media professionals sharing insights and ways organizations may consider observing the recent holiday and connect with the community. \nEnjoy lunch provided by 1918 Catering! \n \nOur Guest Panel of Speakers: \n\nJeh Jeh Pruitt – WBRC FOX6 Reporter; Co-Founder of The Dannon Project\nJavacia Harris Bowser – Award-winning freelance journalist and essayist; Author of the essay collection Find Your Way Back: How to Write Your Way Through Anything. She’s the Founder of “See Jane Write\,” and has been featured in ELLE\, Southern Living\, Good Housekeeping\, Shondaland\, Good Grit and The Birmingham Times.\nCody Short – Journalist at AL.com and Owner of CoCo’s Tea Media. She has worked with Bham Now\, Summit Media\, ABC 33/40\, and WBHM.\nBriauna Perryman\, MBA – Founding member\, former Chief Marketing Officer\, and Vice President of Regenerate Society\, Inc. She is a Senior Consultant specializing in program design\, change management and engagement with Milepost Consulting.\n\n  \n📌 What are some ways we can address this recent national holiday in our community? How can we authentically honor it (not make it a sales tactic)? \n📌 Do we honor this holiday as an education opportunity to get involved and support Black voices and minds in the media and marketing space? \n📌 If your company or organization is curious about how to approach Juneteenth\, this event will facilitate a timely conversation and offer insights. \n  \nMarketing\, media\, business professionals\, DEI experts\, and community supporters\, please join the American Marketing Association Birmingham chapter and Alabama Media Professionals for an insightful panel discussion. Bring your questions and curiosity!
URL:https://amabirmingham.org/event/responsible-media-marketing-strategies-to-celebrate-juneteenth/
LOCATION:Innovation Depot\, 1500 1st Ave N\, Central Meeting Space - Near Stairs\, Birmingham\, AL\, 35203\, United States
CATEGORIES:Luncheons,Special Events and Receptions
ATTACH;FMTTYPE=image/png:https://amabirmingham.org/wp-content/uploads/2024/06/AMA-Bham-Special-Juneteenth-Luncheon-2024-2.png
ORGANIZER;CN="American Marketing Association - Birmingham Chapter":MAILTO:contact@amabirmingham.org
END:VEVENT
END:VCALENDAR