BEGIN:VCALENDAR
VERSION:2.0
PRODID:-//AMA Birmingham - ECPv6.10.1.1//NONSGML v1.0//EN
CALSCALE:GREGORIAN
METHOD:PUBLISH
X-WR-CALNAME:AMA Birmingham
X-ORIGINAL-URL:https://amabirmingham.org
X-WR-CALDESC:Events for AMA Birmingham
REFRESH-INTERVAL;VALUE=DURATION:PT1H
X-Robots-Tag:noindex
X-PUBLISHED-TTL:PT1H
BEGIN:VTIMEZONE
TZID:America/Chicago
BEGIN:DAYLIGHT
TZOFFSETFROM:-0600
TZOFFSETTO:-0500
TZNAME:CDT
DTSTART:20240310T080000
END:DAYLIGHT
BEGIN:STANDARD
TZOFFSETFROM:-0500
TZOFFSETTO:-0600
TZNAME:CST
DTSTART:20241103T070000
END:STANDARD
END:VTIMEZONE
BEGIN:VEVENT
DTSTART;TZID=America/Chicago:20240515T113000
DTEND;TZID=America/Chicago:20240515T130000
DTSTAMP:20260420T014733
CREATED:20240604T030459Z
LAST-MODIFIED:20240604T030951Z
UID:4864-1715772600-1715778000@amabirmingham.org
SUMMARY:You’re Worth It: Communicating the Value of Marketing
DESCRIPTION:Learn the value of positioning marketing as long-term growth-enabling strategies and requirements of the modern company. \n\n\n\n\n\n\n\n\n\n\n\n\nAs the VP of Marketing for Southern Veterinary Partners (SVP)\, our speaker\, Rachelle Kuebler-Weber has helped grow SVP’s revenue by more than 300% in her 3 year tenure. In her role\, she combines deep passions for building empowered\, high functioning marketing teams\, excellent customer service\, driving growth\, and removing points of friction for Veterinarians\, their teams\, communities\, clients\, and pets.\n\n\n  \nRachelle brings more than 15 years of experience in building and leading teams in marketing\, digital\, analytics\, and martech for companies like National Veterinary Associates\, Dollar Shave Club\, E&J Gallo Winery\, and Emory University. Through this experience\, she understands how to build scalable\, sustainable growth. \n\n  \nWith layoffs on the horizon\, companies often consider cutting marketing. Ironically\, this necessary part of any business is viewed as a disposable activity. Marketing connects companies with customers. Are you aware of your value as a marketer? Do you know how to present your value to your company and report the right analytics? \n  \nThe American Marketing Association Birmingham Chapter’s May Signature Series Luncheon will feature Rachelle Kuebler-Weber\, VP of Marketing at Southern Veterinary Partners. Rachelle will present to members and guests of the marketing community\, sharing an informed and insightful perspective about the value marketers bring companies! \n\nKnow your value and how to prove it to companies.\nLearn how to ‘speak the language of the C-suite’\, especially when discussing marketing technology and analytics and sharing information executives care about — related to profit and revenue.\nGain insights to help you even when interviewing with companies and positioning yourself as a top candidate.\n\n  \nMeet us at Innovation Depot on May 15th Doors open at 11:30 a.m. and lunch will be provided! Take notes. Bring your questions. And make valuable connections.
URL:https://amabirmingham.org/event/youre-worth-it-communicating-the-value-of-marketing/
LOCATION:Innovation Depot\, 1500 1st Ave N\, Central Meeting Space - Near Stairs\, Birmingham\, AL\, 35203\, United States
CATEGORIES:Luncheons
ATTACH;FMTTYPE=image/jpeg:https://amabirmingham.org/wp-content/uploads/2024/06/https___cdn.evbuc_.com_images_752605419_190931674101_1_original.jpeg
ORGANIZER;CN="American Marketing Association - Birmingham Chapter":MAILTO:contact@amabirmingham.org
END:VEVENT
END:VCALENDAR