BEGIN:VCALENDAR
VERSION:2.0
PRODID:-//AMA Birmingham - ECPv6.10.1.1//NONSGML v1.0//EN
CALSCALE:GREGORIAN
METHOD:PUBLISH
X-ORIGINAL-URL:https://amabirmingham.org
X-WR-CALDESC:Events for AMA Birmingham
REFRESH-INTERVAL;VALUE=DURATION:PT1H
X-Robots-Tag:noindex
X-PUBLISHED-TTL:PT1H
BEGIN:VTIMEZONE
TZID:America/Chicago
BEGIN:DAYLIGHT
TZOFFSETFROM:-0600
TZOFFSETTO:-0500
TZNAME:CDT
DTSTART:20240310T080000
END:DAYLIGHT
BEGIN:STANDARD
TZOFFSETFROM:-0500
TZOFFSETTO:-0600
TZNAME:CST
DTSTART:20241103T070000
END:STANDARD
END:VTIMEZONE
BEGIN:VEVENT
DTSTART;TZID=America/Chicago:20240417T113000
DTEND;TZID=America/Chicago:20240417T130000
DTSTAMP:20260420T032103
CREATED:20240604T025817Z
LAST-MODIFIED:20240604T030819Z
UID:4861-1713353400-1713358800@amabirmingham.org
SUMMARY:The Future of Marketing: AI\, Copyright\, and Innovation Unveiled
DESCRIPTION:Whether you’re a seasoned marketer eager to embrace AI-driven innovations or simply curious about the future of marketing technology. \n\n\n\n\n\n\n\n\n\n\n\n\n\n\nAbout this event\n\n\n\n\n\n\n🚀 Unlocking the Power of AI in Marketing: Join Our Interactive Panel Discussion 🚀 \nAre you ready to discover the transformative potential of artificial intelligence in marketing? Don’t miss out on our exclusive panel discussion where we’ll delve into the exciting world of AI innovation and its game-changing impact on modern marketing strategies. \n  \n📅 Date: April 17\, 2024\n🕒 Time: 11:30-1pm\n📍 Location: Innovation Depot \n  \nHosted by AMA Birmingham\, this dynamic event is your gateway to exploring the limitless possibilities of AI in revolutionizing the marketing landscape. Our esteemed panel\, comprising an intellectual property attorney\, AI innovation expert\, and seasoned marketing agency owner\, will lead a captivating discussion on harnessing AI to drive growth and innovation in your marketing efforts. \n  \nDuring this engaging session\, you’ll gain invaluable insights into: \n\nHow AI is reshaping the marketing industry and driving unprecedented levels of efficiency and effectiveness\nThe role of AI in personalizing customer experiences\, optimizing campaigns\, and unlocking new avenues for engagement\nPractical strategies for integrating AI technologies into your marketing toolkit to stay ahead of the competition\nEthical considerations and best practices for ensuring responsible AI usage and compliance with copyright laws\n\n  \nBut that’s not all! We invite you to be an active participant in the conversation. Our panel discussion will feature an open Q&A session\, allowing you to pose your burning questions directly to our experts and gain actionable insights tailored to your specific challenges and objectives. \n  \nSeize the opportunity to be part of this transformative dialogue. Reserve your spot today and prepare to unlock the full potential of AI in marketing!
URL:https://amabirmingham.org/event/the-future-of-marketing-ai-copyright-and-innovation-unveiled/
LOCATION:Innovation Depot\, 1500 1st Ave N\, Central Meeting Space - Near Stairs\, Birmingham\, AL\, 35203\, United States
CATEGORIES:Luncheons
ATTACH;FMTTYPE=image/jpeg:https://amabirmingham.org/wp-content/uploads/2024/06/https___cdn.evbuc_.com_images_718899459_190931674101_1_original.jpeg
ORGANIZER;CN="American Marketing Association - Birmingham Chapter":MAILTO:contact@amabirmingham.org
END:VEVENT
END:VCALENDAR